BEGIN:VCALENDAR
VERSION:2.0
PRODID:-//eventon.com NONSGML v1.0//EN
CALSCALE:GREGORIAN
METHOD:PUBLISH
BEGIN:VEVENT
UID:69e5ee3c98b16
DTSTAMP:20260420T091332Z
DTSTART:20260421T073000Z
DTEND:20260421T090000Z
LOCATION:MamaBabyRaum Karlsruhe Goethestraße 23\,  76135 Karlsruhe
SUMMARY:Geburtsvorberei­tungs­kurs für Zweit­gebärende
DESCRIPTION:Auch in der Folgeschwangerschaft möchten sich viele Frauen auf
  die Geburt vorbereiten. Anders als bei der ersten Schwangerschaft geht es 
 hier um Themen wie Zeit für mich\,  Austausch mit Gleichgesinnten\,  Erfah
 rungen und Blick auf die erste Geburt und Geschwisterkind. Eine wertvolle Z
 eit für Dich und Dein Baby.\nhttps://www.mamababyraum.de/termin/geburtsvor
 bereitungskurs-fuer-zweitgebaerende-2026-04-14/var/ri-1.l-L1
URL:https://www.mamababyraum.de/termin/geburtsvorbereitungskurs-fuer-zweitgebaerende-2026-04-14/var/ri-1.l-L1
END:VEVENT
END:VCALENDAR