BEGIN:VCALENDAR
VERSION:2.0
PRODID:-//eventon.com NONSGML v1.0//EN
CALSCALE:GREGORIAN
METHOD:PUBLISH
BEGIN:VEVENT
UID:69e4dc438b708
DTSTAMP:20260419T134435Z
DTSTART:20260708T120000Z
DTEND:20260708T130000Z
LOCATION:MamaBabyRaum Karlsruhe Goethestraße 23\,  76135 Karlsruhe
SUMMARY:Babysport mit Ball für 1-2-Jährige
DESCRIPTION:Der Kurs Babysport mit Ball ist Bewegung für Dein Baby. Mit Hi
 lfe vor allem von verschiedenen Bällen und Ballformaten und auch ganz viel
 en anderen Materialien und Bewegungselementen wird Deinem Baby spielerisch\
 ,  altersgerecht und ganzheitlich die Freude an der Bewegung vermittelt.\nh
 ttps://www.mamababyraum.de/termin/babysport-mit-ball-fuer-1-2-jaehrige-2026
 -06-24-14-15uhr/var/ri-2.l-L1
URL:https://www.mamababyraum.de/termin/babysport-mit-ball-fuer-1-2-jaehrige-2026-06-24-14-15uhr/var/ri-2.l-L1
END:VEVENT
END:VCALENDAR