BEGIN:VCALENDAR
VERSION:2.0
PRODID:-//eventon.com NONSGML v1.0//EN
CALSCALE:GREGORIAN
METHOD:PUBLISH
BEGIN:VEVENT
UID:69e5ed10315a0
DTSTAMP:20260420T090832Z
DTSTART:20260608T163000Z
DTEND:20260608T183000Z
LOCATION:MamaBabyRaum Karlsruhe Goethestraße 23\,  76135 Karlsruhe
SUMMARY:Geburtsvorberei­tungs­kurs (mit Partner) für Erstg­ebärende
DESCRIPTION:In einer Wohlfühlatmosphäre kannst du dich mit deinem Partner
  ganz in Ruhe auf die Themen Schwangerschaft\,  Geburt\,  Wochenbett und El
 ternwerden vorbereiten. Es sind kleine Gruppen\,  so dass ein guter Austaus
 ch stattfinden kann und immer genügend Zeit für Fragen ist. Ein Nachtreff
 en ist inklusive\,  an dem ihr eure Geburtsgeschichte erzählen und[..]\nht
 tps://www.mamababyraum.de/termin/geburtsvorbereitungskurs-mit-partner-fuer-
 erstgebaerende-2026-06-08/
URL:https://www.mamababyraum.de/termin/geburtsvorbereitungskurs-mit-partner-fuer-erstgebaerende-2026-06-08/
END:VEVENT
END:VCALENDAR