BEGIN:VCALENDAR
VERSION:2.0
PRODID:-//eventon.com NONSGML v1.0//EN
CALSCALE:GREGORIAN
METHOD:PUBLISH
BEGIN:VEVENT
UID:69e623184e965
DTSTAMP:20260420T125904Z
DTSTART:20260618T163000Z
DTEND:20260618T183000Z
LOCATION:MamaBabyRaum Karlsruhe Goethestraße 23\,  76135 Karlsruhe
SUMMARY:Stillvorbereitung ab dem 2. Kind
DESCRIPTION:Der Stillstart nach der ersten Geburt war schwierig? Dann ist d
 er Stillvorbereitungskurs ab dem 2. Kind vielleicht genau das Richtige für
  Dich?\nhttps://www.mamababyraum.de/termin/stillvorbereitung-ab-dem-2-kind-
 2026-06-18/
URL:https://www.mamababyraum.de/termin/stillvorbereitung-ab-dem-2-kind-2026-06-18/
END:VEVENT
END:VCALENDAR