BEGIN:VCALENDAR
VERSION:2.0
PRODID:-//eventon.com NONSGML v1.0//EN
CALSCALE:GREGORIAN
METHOD:PUBLISH
BEGIN:VEVENT
UID:69e60859b2c3e
DTSTAMP:20260420T110457Z
DTSTART:20260626T091500Z
DTEND:20260626T101500Z
LOCATION:MamaBabyRaum Karlsruhe Goethestraße 23\,  76135 Karlsruhe
SUMMARY:Babymassagekurs
DESCRIPTION:Ankommen\,  wohl fühlen\,  Zeit für euch genießen. Raus aus 
 dem Alltag und rein in einen Raum zum Entspannen. Durch die sanfte Babymass
 age erfährt dein Kind Geborgenheit\,  Wärme und Zuwendung.Die Babymassage
  ist eine wohltuende zärtliche Zuwendung und fördert die Bindung zwischen
  Dir und Deinem Baby.\nhttps://www.mamababyraum.de/termin/babymassagekurs-2
 026-06-12/var/ri-2.l-L1
URL:https://www.mamababyraum.de/termin/babymassagekurs-2026-06-12/var/ri-2.l-L1
END:VEVENT
END:VCALENDAR