BEGIN:VCALENDAR
VERSION:2.0
PRODID:-//eventon.com NONSGML v1.0//EN
CALSCALE:GREGORIAN
METHOD:PUBLISH
BEGIN:VEVENT
UID:69e644f2e89b0
DTSTAMP:20260420T152330Z
DTSTART:20260505T173000Z
DTEND:20260505T190000Z
LOCATION:Online Goethestraße 23\,  76135 Karlsruhe
SUMMARY:Online-Reihe Babyschlaf
DESCRIPTION:Babyschlaf &#8211; kaum ein Thema ist so herausfordernd im erst
 en Babyjahr.\nhttps://www.mamababyraum.de/termin/online-reihe-babyschlaf/
URL:https://www.mamababyraum.de/termin/online-reihe-babyschlaf/
END:VEVENT
END:VCALENDAR