BEGIN:VCALENDAR
VERSION:2.0
PRODID:-//eventon.com NONSGML v1.0//EN
CALSCALE:GREGORIAN
METHOD:PUBLISH
BEGIN:VEVENT
UID:69e755ef9cc4d
DTSTAMP:20260421T104815Z
DTSTART:20260511T173000Z
DTEND:20260511T190000Z
LOCATION:Online Goethestraße 23\,  76135 Karlsruhe
SUMMARY:Online-Reihe Autonomiephase
DESCRIPTION:In der Autonomiephase wird der Familienalltag manchmal ganz sch
 ön auf den Kopf gestellt.\nhttps://www.mamababyraum.de/termin/online-reihe
 -autonomiephase-2026-05-11/
URL:https://www.mamababyraum.de/termin/online-reihe-autonomiephase-2026-05-11/
END:VEVENT
END:VCALENDAR