BEGIN:VCALENDAR
VERSION:2.0
PRODID:-//eventon.com NONSGML v1.0//EN
CALSCALE:GREGORIAN
METHOD:PUBLISH
BEGIN:VEVENT
UID:69e6217e5e5a3
DTSTAMP:20260420T125214Z
DTSTART:20260611T144500Z
DTEND:20260611T154500Z
LOCATION:MamaBabyRaum Karlsruhe Goethestraße 23\,  76135 Karlsruhe
SUMMARY:Beckenboden-Kurs
DESCRIPTION:Dieser Kurs richtet sich an Mamas\,  die nach der Rückbildung 
 gezielt weiter trainieren möchten.\nhttps://www.mamababyraum.de/termin/bec
 kenboden-kurs-2026-06-11/
URL:https://www.mamababyraum.de/termin/beckenboden-kurs-2026-06-11/
END:VEVENT
END:VCALENDAR