BEGIN:VCALENDAR
VERSION:2.0
PRODID:-//eventon.com NONSGML v1.0//EN
CALSCALE:GREGORIAN
METHOD:PUBLISH
BEGIN:VEVENT
UID:69e6bdb94aaac
DTSTAMP:20260420T235849Z
DTSTART:20260730T144500Z
DTEND:20260730T154500Z
LOCATION:MamaBabyRaum Karlsruhe Goethestraße 23\,  76135 Karlsruhe
SUMMARY:Beckenboden-Kurs
DESCRIPTION:Dieser Kurs richtet sich an Mamas\,  die nach der Rückbildung 
 gezielt weiter trainieren möchten.\nhttps://www.mamababyraum.de/termin/bec
 kenboden-kurs-2026-06-11/var/ri-6.l-L1
URL:https://www.mamababyraum.de/termin/beckenboden-kurs-2026-06-11/var/ri-6.l-L1
END:VEVENT
END:VCALENDAR