BEGIN:VCALENDAR
VERSION:2.0
PRODID:-//eventon.com NONSGML v1.0//EN
CALSCALE:GREGORIAN
METHOD:PUBLISH
BEGIN:VEVENT
UID:69e604ff85043
DTSTAMP:20260420T105039Z
DTSTART:20260613T080000Z
DTEND:20260613T103000Z
LOCATION:MamaBabyRaum Karlsruhe Goethestraße 23\,  76135 Karlsruhe
SUMMARY:Tupler Technique® - Training
DESCRIPTION:Die Tupler Technique® ist ein Programm zur Schließung einer R
 ektusdiastase – vor\,  während und nach einer Schwangerschaft.\nhttps://
 www.mamababyraum.de/termin/tupler-technique-training/
URL:https://www.mamababyraum.de/termin/tupler-technique-training/
END:VEVENT
END:VCALENDAR