BEGIN:VCALENDAR
VERSION:2.0
PRODID:-//eventon.com NONSGML v1.0//EN
CALSCALE:GREGORIAN
METHOD:PUBLISH
BEGIN:VEVENT
UID:69e608ce1643b
DTSTAMP:20260420T110654Z
DTSTART:20260725T080000Z
DTEND:20260725T103000Z
LOCATION:MamaBabyRaum Karlsruhe Goethestraße 23\,  76135 Karlsruhe
SUMMARY:Tupler Technique® - Training
DESCRIPTION:Die Tupler Technique® ist ein Programm zur Schließung einer R
 ektusdiastase – vor\,  während und nach einer Schwangerschaft.\nhttps://
 www.mamababyraum.de/termin/tupler-technique-training/var/ri-2.l-L1
URL:https://www.mamababyraum.de/termin/tupler-technique-training/var/ri-2.l-L1
END:VEVENT
END:VCALENDAR