BEGIN:VCALENDAR
VERSION:2.0
PRODID:-//eventon.com NONSGML v1.0//EN
CALSCALE:GREGORIAN
METHOD:PUBLISH
BEGIN:VEVENT
UID:69e6c7102b051
DTSTAMP:20260421T003840Z
DTSTART:20260609T093000Z
DTEND:20260609T104500Z
LOCATION:MamaBabyRaum Karlsruhe Goethestraße 23\,  76135 Karlsruhe
SUMMARY:FenKid® - gemeinsam durch das 1. Babyjahr (für Zweitgebärende)
DESCRIPTION:FenKid ist ein Mama/Baby-Kurs für ein liebevolles und entspann
 tes Miteinander. In dem Kurs erfährst Du\,  wie Du die ganz eigene Entwick
 lung Deines Babys wahrnimmst\,  unterstützt und liebevoll sowie vertrauens
 voll begleitest. Verschiedene Materialien\,  Lieder und Fingerspiele sorgen
  für Entdeckungsreisen für Dein Baby. Und der Austausch mit anderen Mamas
  unterstützt und stärkt[..]\nhttps://www.mamababyraum.de/termin/fenkid-ge
 meinsam-durch-das-erste-babyjahr-fuer-zweitgebaerende-2026-03-31/var/ri-7.l
 -L1
URL:https://www.mamababyraum.de/termin/fenkid-gemeinsam-durch-das-erste-babyjahr-fuer-zweitgebaerende-2026-03-31/var/ri-7.l-L1
END:VEVENT
END:VCALENDAR