BEGIN:VCALENDAR
VERSION:2.0
PRODID:-//eventon.com NONSGML v1.0//EN
CALSCALE:GREGORIAN
METHOD:PUBLISH
BEGIN:VEVENT
UID:69e621195a9f7
DTSTAMP:20260420T125033Z
DTSTART:20260508T143000Z
DTEND:20260508T160000Z
LOCATION:MamaBabyRaum Karlsruhe Goethestraße 23\,  76135 Karlsruhe
SUMMARY:Schatten und Licht Selbsthilfegruppe
DESCRIPTION:Für Frauen mit psychischen Belastungen nach der Geburt.\nhttps
 ://www.mamababyraum.de/termin/schatten-und-licht-selbsthilfegruppe-2026-05-
 08/
URL:https://www.mamababyraum.de/termin/schatten-und-licht-selbsthilfegruppe-2026-05-08/
END:VEVENT
END:VCALENDAR