BEGIN:VCALENDAR
VERSION:2.0
PRODID:-//eventon.com NONSGML v1.0//EN
CALSCALE:GREGORIAN
METHOD:PUBLISH
BEGIN:VEVENT
UID:69e6245c5f025
DTSTAMP:20260420T130428Z
DTSTART:20260612T143000Z
DTEND:20260612T160000Z
LOCATION:MamaBabyRaum Karlsruhe Goethestraße 23\,  76135 Karlsruhe
SUMMARY:Schatten und Licht Selbsthilfegruppe
DESCRIPTION:Für Frauen mit psychischen Belastungen nach der Geburt.\nhttps
 ://www.mamababyraum.de/termin/schatten-und-licht-selbsthilfegruppe-2026-06-
 12/
URL:https://www.mamababyraum.de/termin/schatten-und-licht-selbsthilfegruppe-2026-06-12/
END:VEVENT
END:VCALENDAR