BEGIN:VCALENDAR
VERSION:2.0
PRODID:-//eventon.com NONSGML v1.0//EN
CALSCALE:GREGORIAN
METHOD:PUBLISH
BEGIN:VEVENT
UID:69e61ea0617da
DTSTAMP:20260420T124000Z
DTSTART:20260717T143000Z
DTEND:20260717T160000Z
LOCATION:MamaBabyRaum Karlsruhe Goethestraße 23\,  76135 Karlsruhe
SUMMARY:Schatten und Licht Selbsthilfegruppe
DESCRIPTION:Für Frauen mit psychischen Belastungen nach der Geburt.\nhttps
 ://www.mamababyraum.de/termin/schatten-und-licht-selbsthilfegruppe-2026-07-
 17/
URL:https://www.mamababyraum.de/termin/schatten-und-licht-selbsthilfegruppe-2026-07-17/
END:VEVENT
END:VCALENDAR