BEGIN:VCALENDAR
VERSION:2.0
PRODID:-//eventon.com NONSGML v1.0//EN
CALSCALE:GREGORIAN
METHOD:PUBLISH
BEGIN:VEVENT
UID:69e66d7a4495f
DTSTAMP:20260420T181626Z
DTSTART:20270129T083000Z
DTEND:20270129T093000Z
LOCATION:MamaBabyRaum Karlsruhe Goethestraße 23\,  76135 Karlsruhe
SUMMARY:MamaWORKOUT®-Rückbildung (mit oder ohne Baby)
DESCRIPTION:Starte mit dem Rückbildungskurs frühestens 6 Wochen nach Gebu
 rt. Wenn du einen Kaiserschnitt hattest und/oder noch sehr starke Schmerzen
  und/oder du dich noch nicht so weit fühlst\,  lasse dir auch gerne einige
  Wochen mehr Zeit. Der Rückbildungskurs ist dafür da\,  deinem Körper di
 e Aufmerksamkeit zu schenken\,  die er nach der[..]\nhttps://www.mamababyra
 um.de/termin/mamaworkout-rueckbildung-mit-oder-ohne-baby-2027-01-08/var/ri-
 3.l-L1
URL:https://www.mamababyraum.de/termin/mamaworkout-rueckbildung-mit-oder-ohne-baby-2027-01-08/var/ri-3.l-L1
END:VEVENT
END:VCALENDAR