BEGIN:VCALENDAR
VERSION:2.0
PRODID:-//eventon.com NONSGML v1.0//EN
CALSCALE:GREGORIAN
METHOD:PUBLISH
BEGIN:VEVENT
UID:69e6380a4b7d2
DTSTAMP:20260420T142826Z
DTSTART:20260421T111500Z
DTEND:20260421T121500Z
LOCATION:MamaBabyRaum Karlsruhe Goethestraße 23\,  76135 Karlsruhe
SUMMARY:Akupunktur geburts­vorberei­tend
DESCRIPTION:Die Akupunktur bereitet den Körper auf die Geburt und die Woch
 enbettzeit vor.\nhttps://www.mamababyraum.de/termin/akupunktur-geburtsvorbe
 reitend-2026-04-21/
URL:https://www.mamababyraum.de/termin/akupunktur-geburtsvorbereitend-2026-04-21/
END:VEVENT
END:VCALENDAR