BEGIN:VCALENDAR
VERSION:2.0
PRODID:-//eventon.com NONSGML v1.0//EN
CALSCALE:GREGORIAN
METHOD:PUBLISH
BEGIN:VEVENT
UID:69e5380750ff6
DTSTAMP:20260419T201607Z
DTSTART:20260722T110000Z
DTEND:20260722T114500Z
LOCATION:MamaBabyRaum Karlsruhe Goethestraße 23\,  76135 Karlsruhe
SUMMARY:Zwergensprache - Babys auf dem Weg zur Sprache begleiten
DESCRIPTION:Gemeinsam entdecken wir die Welt der Babyzeichen. Im Kurs steht
  die Kommunikation zwischen dir und deinem Kind im Mittelpunkt.\nhttps://ww
 w.mamababyraum.de/termin/zwergensprache-babys-auf-dem-weg-zur-sprache-begle
 iten/var/ri-7.l-L1
URL:https://www.mamababyraum.de/termin/zwergensprache-babys-auf-dem-weg-zur-sprache-begleiten/var/ri-7.l-L1
END:VEVENT
END:VCALENDAR