BEGIN:VCALENDAR
VERSION:2.0
PRODID:-//eventon.com NONSGML v1.0//EN
CALSCALE:GREGORIAN
METHOD:PUBLISH
BEGIN:VEVENT
UID:69e637e45d884
DTSTAMP:20260420T142748Z
DTSTART:20260505T111500Z
DTEND:20260505T121500Z
LOCATION:MamaBabyRaum Karlsruhe Goethestraße 23\,  76135 Karlsruhe
SUMMARY:Akupunktur geburts­vorberei­tend
DESCRIPTION:Die Akupunktur bereitet den Körper auf die Geburt und die Woch
 enbettzeit vor.\nhttps://www.mamababyraum.de/termin/akupunktur-geburtsvorbe
 reitend-2026-05-05/
URL:https://www.mamababyraum.de/termin/akupunktur-geburtsvorbereitend-2026-05-05/
END:VEVENT
END:VCALENDAR